BEGIN:VCALENDAR
VERSION:2.0
PRODID:-//Plone.org//NONSGML plone.app.event//EN
X-WR-TIMEZONE:Brazil/East
BEGIN:VEVENT
SUMMARY:Título de Cidadão ao Senhor Wendele Nascimento e Medalha ao Padr
 e Luiz Antônio
DTSTART;TZID=Brazil/East;VALUE=DATE-TIME:20171122T200000
DTEND;TZID=Brazil/East;VALUE=DATE-TIME:20171122T230000
DTSTAMP;VALUE=DATE-TIME:20260420T132830Z
UID:b437cc033e8f4b198c239c2115707ed3@www.caruaru.pe.leg.br
ATTENDEE;CN="Autoridades convidadas e sociedade em geral.";ROLE=REQ-PARTIC
 IPANT:Autoridades convidadas e sociedade em geral.
CONTACT:Cerimonial Câmara Caruaru\, (81) 3701-1850 / Ramal 213\, cerimoni
 alcamaracaruaru@gmail.com
CREATED;VALUE=DATE-TIME:20171127T140242Z
DESCRIPTION:Sessão Solene de outorga do Título de Cidadão Caruaruense a
 o Senhor Wendele Nascimento e de entrega da Medalha de Honra ao Mérito Fr
 ei Tito de Piegaio ao Padre Luiz Antônio. As proposituras são do vereado
 r Lula Tôrres.
LAST-MODIFIED;VALUE=DATE-TIME:20181108T170037Z
LOCATION:Plenário da Câmara Municipal de Caruaru
URL:https://www.caruaru.pe.leg.br/institucional/eventos/titulo-de-cidadao-
 ao-senhor-wendele-nascimento-e-medalha-ao-padre-luiz-antonio
END:VEVENT
BEGIN:VTIMEZONE
TZID:Brazil/East
X-LIC-LOCATION:Brazil/East
BEGIN:DAYLIGHT
DTSTART;VALUE=DATE-TIME:20171015T010000
TZNAME:BRST
TZOFFSETFROM:-0300
TZOFFSETTO:-0200
END:DAYLIGHT
END:VTIMEZONE
END:VCALENDAR
