BEGIN:VCALENDAR
VERSION:2.0
PRODID:-//Plone.org//NONSGML plone.app.event//EN
X-WR-TIMEZONE:Brazil/East
BEGIN:VEVENT
SUMMARY:Sessão Solene outorga de Título de Cidadania ao senhor Renato He
 nrique Maciel Costa
DTSTART;TZID=Brazil/East;VALUE=DATE-TIME:20190318T200000
DTEND;TZID=Brazil/East;VALUE=DATE-TIME:20190318T220000
DTSTAMP;VALUE=DATE-TIME:20260420T132830Z
UID:c30baac7c2504529bc1b9bc452749769@www.caruaru.pe.leg.br
CONTACT: (81) 9 9243.290\, cerimonialcamaracaruaru@gmail.com
CREATED;VALUE=DATE-TIME:20190903T141927Z
DESCRIPTION:Sessão Solene de outorga do Título de Cidadão de Caruaru ao
  senhor Renato Henrique Maciel Costa\, propositura do vereador Daniel Fini
 zola.
LAST-MODIFIED;VALUE=DATE-TIME:20190903T143921Z
LOCATION:Plenário da Câmara Municipal de Caruaru
URL:https://www.caruaru.pe.leg.br/institucional/eventos/sessao-solene-outo
 rga-de-titulo-ao-senhor-renato-henrique-maciel-costa
END:VEVENT
BEGIN:VTIMEZONE
TZID:Brazil/East
X-LIC-LOCATION:Brazil/East
BEGIN:STANDARD
DTSTART;VALUE=DATE-TIME:20190216T230000
TZNAME:BRT
TZOFFSETFROM:-0200
TZOFFSETTO:-0300
END:STANDARD
END:VTIMEZONE
END:VCALENDAR
