BEGIN:VCALENDAR
VERSION:2.0
PRODID:-//Plone.org//NONSGML plone.app.event//EN
X-WR-TIMEZONE:Brazil/East
BEGIN:VEVENT
SUMMARY:Sessão Solene em homenagem ao Dia do Enfermeiro
DTSTART;TZID=Brazil/East;VALUE=DATE-TIME:20170515T190000
DTEND;TZID=Brazil/East;VALUE=DATE-TIME:20170515T230000
DTSTAMP;VALUE=DATE-TIME:20260421T223006Z
UID:ca0de013932b4e19b0ad742096cf9462@www.caruaru.pe.leg.br
ATTENDEE;CN="- Representante do Coren-PE";ROLE=REQ-PARTICIPANT:- Represent
 ante do Coren-PE
ATTENDEE;CN="- Representante da Associação Brasileira de Enfermagem(Aben
 -PE)";ROLE=REQ-PARTICIPANT:- Representante da Associação Brasileira de E
 nfermagem(Aben-PE)
ATTENDEE;CN="- Representante do Conselho Federal de Enfermagem – COFEN";
 ROLE=REQ-PARTICIPANT:- Representante do Conselho Federal de Enfermagem –
  COFEN
ATTENDEE;CN="- Representante da Federação Nacional dos Enfermeiros - FNE
 ";ROLE=REQ-PARTICIPANT:- Representante da Federação Nacional dos Enferme
 iros - FNE
ATTENDEE;CN="- Berenice Garcês - Presidente do Sindicato dos Enfermeiros 
 no Estado de Pernambuco";ROLE=REQ-PARTICIPANT:- Berenice Garcês - Preside
 nte do Sindicato dos Enfermeiros no Estado de Pernambuco
ATTENDEE;CN="Autoridades convidadas e sociedade em geral";ROLE=REQ-PARTICI
 PANT:Autoridades convidadas e sociedade em geral
CONTACT:Cerimonial Câmara Caruaru\, 3701-1850 / Ramal 213\, cerimonialcam
 aracaruaru@gmail.com
CREATED;VALUE=DATE-TIME:20170512T140335Z
DESCRIPTION:Sessão Solene em homenagem ao Dia Mundial do Enfermeiro\, com
 emorado no dia 12 de maio\, propositura do Vereador Daniel Finizola.
LAST-MODIFIED;VALUE=DATE-TIME:20181108T170030Z
LOCATION:Plenário da Câmara Municipal de Caruaru
URL:https://www.caruaru.pe.leg.br/institucional/eventos/sessao-solene-em-h
 omenagem-ao-dia-do-enfermeiro
END:VEVENT
BEGIN:VTIMEZONE
TZID:Brazil/East
X-LIC-LOCATION:Brazil/East
BEGIN:STANDARD
DTSTART;VALUE=DATE-TIME:20170218T230000
TZNAME:BRT
TZOFFSETFROM:-0200
TZOFFSETTO:-0300
END:STANDARD
END:VTIMEZONE
END:VCALENDAR
