BEGIN:VCALENDAR
VERSION:2.0
PRODID:-//Plone.org//NONSGML plone.app.event//EN
X-WR-TIMEZONE:Brazil/East
BEGIN:VEVENT
SUMMARY:Sessão Solene em homenagem ao Coronel Ludugero. 
DTSTART;TZID=Brazil/East;VALUE=DATE-TIME:20191010T200000
DTEND;TZID=Brazil/East;VALUE=DATE-TIME:20191010T220000
DTSTAMP;VALUE=DATE-TIME:20260421T195728Z
UID:8169e05287c944f0ac27a241adceefe5@www.caruaru.pe.leg.br
CONTACT:(81) 99243-2902\, cerimonialcamaracaruaru@gmail.com
CREATED;VALUE=DATE-TIME:20191205T134709Z
DESCRIPTION:Sessão Solene de outorga de homenagem ao Coronel Ludugero\, p
 ropositura do vereador Lula Tôrres.
LAST-MODIFIED;VALUE=DATE-TIME:20191205T134713Z
LOCATION:Plenário da Câmara Municipal de Caruaru
URL:https://www.caruaru.pe.leg.br/institucional/eventos/sessao-solene-em-h
 omenagem-ao-coronel-ludugero
END:VEVENT
BEGIN:VTIMEZONE
TZID:Brazil/East
X-LIC-LOCATION:Brazil/East
BEGIN:STANDARD
DTSTART;VALUE=DATE-TIME:20190216T230000
TZNAME:BRT
TZOFFSETFROM:-0200
TZOFFSETTO:-0300
END:STANDARD
END:VTIMEZONE
END:VCALENDAR
