BEGIN:VCALENDAR
VERSION:2.0
PRODID:-//Plone.org//NONSGML plone.app.event//EN
X-WR-TIMEZONE:Brazil/East
BEGIN:VEVENT
SUMMARY:Sessão Solene em celebração aos 162 anos de Caruaru 
DTSTART;TZID=Brazil/East;VALUE=DATE-TIME:20190517T200000
DTEND;TZID=Brazil/East;VALUE=DATE-TIME:20190517T220000
DTSTAMP;VALUE=DATE-TIME:20260420T132830Z
UID:03eb94a36c6b4f4882fcac4d7cd2f26c@www.caruaru.pe.leg.br
CONTACT:(81) 99243-2902\, cerimonialcamaracaruaru@gmail.com
CREATED;VALUE=DATE-TIME:20190903T162556Z
DESCRIPTION:Sessão Solene em homenagem aos 162 anos de Caruaru. Ocasião 
 em que foi apresentado o livro "Amplitude Modulada" – de autoria do Prof
 essor Edson Tavares - e entregue a Medalha De Honra Ao Mérito “Jornalis
 ta José Carlos Florêncio” a 8 Profissionais Da Comunicação que se de
 stacam pelo trabalho que desenvolvem no município de Caruaru e tiveram su
 as trajetórias marcadas pelo rádio.
LAST-MODIFIED;VALUE=DATE-TIME:20190903T162604Z
LOCATION:Plenário da Câmara Municipal de Caruaru
URL:https://www.caruaru.pe.leg.br/institucional/eventos/sessao-solene-em-c
 elebracao-aos-162-anos-de-caruaru
END:VEVENT
BEGIN:VTIMEZONE
TZID:Brazil/East
X-LIC-LOCATION:Brazil/East
BEGIN:STANDARD
DTSTART;VALUE=DATE-TIME:20190216T230000
TZNAME:BRT
TZOFFSETFROM:-0200
TZOFFSETTO:-0300
END:STANDARD
END:VTIMEZONE
END:VCALENDAR
