BEGIN:VCALENDAR
VERSION:2.0
PRODID:-//Plone.org//NONSGML plone.app.event//EN
X-WR-TIMEZONE:Brazil/East
BEGIN:VEVENT
SUMMARY:Sessão Solene de outorga do Título de Cidadania à senhora Rober
 ta Micaele Cordeiro Costa
DTSTART;TZID=Brazil/East;VALUE=DATE-TIME:20190524T200000
DTEND;TZID=Brazil/East;VALUE=DATE-TIME:20190524T220000
DTSTAMP;VALUE=DATE-TIME:20260420T132816Z
UID:b624dd80a3f94d39baf7a41595890275@www.caruaru.pe.leg.br
CONTACT:(81) 99243-2902\, cerimonialcamaracaruaru@gmail.com
CREATED;VALUE=DATE-TIME:20190903T173228Z
DESCRIPTION:Sessão Solene de outorga do título de cidadania à senhora R
 oberta Micaele Cordeiro Costa\, com propositura do vereador Marcelo Gomes.
  
LAST-MODIFIED;VALUE=DATE-TIME:20190903T173235Z
LOCATION:Plenário da Câmara Municipal de Caruaru
URL:https://www.caruaru.pe.leg.br/institucional/eventos/sessao-solene-de-o
 utorga-do-titulo-de-cidadania-a-senhora-roberta-micaele-cordeiro-costa
END:VEVENT
BEGIN:VTIMEZONE
TZID:Brazil/East
X-LIC-LOCATION:Brazil/East
BEGIN:STANDARD
DTSTART;VALUE=DATE-TIME:20190216T230000
TZNAME:BRT
TZOFFSETFROM:-0200
TZOFFSETTO:-0300
END:STANDARD
END:VTIMEZONE
END:VCALENDAR
