BEGIN:VCALENDAR
VERSION:2.0
PRODID:-//Plone.org//NONSGML plone.app.event//EN
X-WR-TIMEZONE:Brazil/East
BEGIN:VEVENT
SUMMARY:Sessão solene de outorga de Título de Cidadania aos senhores Pie
 ro Monteiro e  Edmar Lyra.
DTSTART;TZID=Brazil/East;VALUE=DATE-TIME:20191211T200000
DTEND;TZID=Brazil/East;VALUE=DATE-TIME:20191211T220000
DTSTAMP;VALUE=DATE-TIME:20260420T132829Z
UID:74742f42870348b58145b416bf9040ca@www.caruaru.pe.leg.br
CONTACT:(81) 99243-2902\, cerimonialcamaracaruaru@gmail.com
CREATED;VALUE=DATE-TIME:20191205T130002Z
DESCRIPTION:Sessão Solene de outorga de título de cidadania aos senhores
  Piero Monteiro e  Edmar Lyra\, propositura dos vereadores Cecílio Pedro 
 e Alberes Lopes.
LAST-MODIFIED;VALUE=DATE-TIME:20191205T130007Z
LOCATION:Plenário da Câmara Municipal de Caruaru
URL:https://www.caruaru.pe.leg.br/institucional/eventos/sessao-solene-de-o
 utorga-de-titulo-de-cidadania-aos-senhores-piero-monteiro-e-edmar-lyra
END:VEVENT
BEGIN:VTIMEZONE
TZID:Brazil/East
X-LIC-LOCATION:Brazil/East
BEGIN:DAYLIGHT
DTSTART;VALUE=DATE-TIME:20191020T010000
TZNAME:BRST
TZOFFSETFROM:-0300
TZOFFSETTO:-0200
END:DAYLIGHT
END:VTIMEZONE
END:VCALENDAR
