BEGIN:VCALENDAR
VERSION:2.0
PRODID:-//Plone.org//NONSGML plone.app.event//EN
X-WR-TIMEZONE:Brazil/East
BEGIN:VEVENT
SUMMARY:Sessão Solene de outorga de Título de Cidadania ao senhor Alexan
 dre Farias.
DTSTART;TZID=Brazil/East;VALUE=DATE-TIME:20191213T200000
DTEND;TZID=Brazil/East;VALUE=DATE-TIME:20191213T220000
DTSTAMP;VALUE=DATE-TIME:20260420T132624Z
UID:7d25bd2491594c889217a5df816898da@www.caruaru.pe.leg.br
CONTACT:(81) 99243-2902\, cerimonialcamaracaruaru@gmail.com
CREATED;VALUE=DATE-TIME:20191205T130149Z
DESCRIPTION:Sessão Solene de outorga de título de cidadania ao senhor Al
 exandre Farias\, propositura do vereador Lula Tôrres.
LAST-MODIFIED;VALUE=DATE-TIME:20191205T131543Z
LOCATION:Plenário da Câmara Municipal de Caruaru
URL:https://www.caruaru.pe.leg.br/institucional/eventos/sessao-solene-de-o
 utorga-de-titulo-de-cidadania-ao-senhor-alexandre-farias
END:VEVENT
BEGIN:VTIMEZONE
TZID:Brazil/East
X-LIC-LOCATION:Brazil/East
BEGIN:DAYLIGHT
DTSTART;VALUE=DATE-TIME:20191020T010000
TZNAME:BRST
TZOFFSETFROM:-0300
TZOFFSETTO:-0200
END:DAYLIGHT
END:VTIMEZONE
END:VCALENDAR
