BEGIN:VCALENDAR
VERSION:2.0
PRODID:-//Plone.org//NONSGML plone.app.event//EN
X-WR-TIMEZONE:Brazil/East
BEGIN:VEVENT
SUMMARY:Sessão Solene de outorga de medalha aos senhores Ivan Cursino de 
 Araújo\,  Edmilson Severino de Souza e Heleno Francisco da Silva.
DTSTART;TZID=Brazil/East;VALUE=DATE-TIME:20191125T200000
DTEND;TZID=Brazil/East;VALUE=DATE-TIME:20191125T220000
DTSTAMP;VALUE=DATE-TIME:20260421T180200Z
UID:17a163db9d7a47a28b4dc4098b14379d@www.caruaru.pe.leg.br
CONTACT:(81) 99243-2902\, cerimonialcamaracaruaru@gmail.com
CREATED;VALUE=DATE-TIME:20191205T132230Z
DESCRIPTION:Sessão Solene de outorga de medalha aos senhores van Cursino 
 de Araújo\, Edmilson Severino de Souza e Heleno Francisco da Silva\, prop
 ositura do vereador Moyses Santos.
LAST-MODIFIED;VALUE=DATE-TIME:20191205T132534Z
LOCATION:Plenário da Câmara Municipal de Caruaru
URL:https://www.caruaru.pe.leg.br/institucional/eventos/sessao-solene-de-o
 utorga-de-medalha-aos-senhores-ivan-cursino-de-araujo-edmilson-severino-de
 -souza-e-heleno-francisco-da-silva
END:VEVENT
BEGIN:VTIMEZONE
TZID:Brazil/East
X-LIC-LOCATION:Brazil/East
BEGIN:DAYLIGHT
DTSTART;VALUE=DATE-TIME:20191020T010000
TZNAME:BRST
TZOFFSETFROM:-0300
TZOFFSETTO:-0200
END:DAYLIGHT
END:VTIMEZONE
END:VCALENDAR
