BEGIN:VCALENDAR
VERSION:2.0
PRODID:-//Plone.org//NONSGML plone.app.event//EN
X-WR-TIMEZONE:Brazil/East
BEGIN:VEVENT
SUMMARY:Sessão Solene de outorga da Medalha de Honra ao Mérito "Professo
 ra Sinhazinha" ao Centro Universitário Tabosa de Almeida
DTSTART;TZID=Brazil/East;VALUE=DATE-TIME:20190619T200000
DTEND;TZID=Brazil/East;VALUE=DATE-TIME:20190619T220000
DTSTAMP;VALUE=DATE-TIME:20260421T180335Z
UID:dbaf1d4b16df4d57866c64c14425ba35@www.caruaru.pe.leg.br
CONTACT:(81) 99243-2902\, cerimonialcamaracaruaru@gmail.com
CREATED;VALUE=DATE-TIME:20190903T175212Z
DESCRIPTION:Sessão Solene de outorga da Medalha de Honra ao Mérito "Prof
 essora Sinhazinha" ao Centro Universitário Tabosa de Almeida\, pelos 60 a
 nos da instituição de ensino. Propositura do vereador Daniel Finizola.
LAST-MODIFIED;VALUE=DATE-TIME:20190903T175219Z
LOCATION:Plenário da Câmara Municipal de Caruaru
URL:https://www.caruaru.pe.leg.br/institucional/eventos/sessao-solene-de-o
 utorga-da-medalha-de-honra-ao-merito-professora-sinhazinha-ao-centro-unive
 rsitario-tabosa-de-almeida
END:VEVENT
BEGIN:VTIMEZONE
TZID:Brazil/East
X-LIC-LOCATION:Brazil/East
BEGIN:STANDARD
DTSTART;VALUE=DATE-TIME:20190216T230000
TZNAME:BRT
TZOFFSETFROM:-0200
TZOFFSETTO:-0300
END:STANDARD
END:VTIMEZONE
END:VCALENDAR
