BEGIN:VCALENDAR
VERSION:2.0
PRODID:-//Plone.org//NONSGML plone.app.event//EN
X-WR-TIMEZONE:Brazil/East
BEGIN:VEVENT
SUMMARY:Sessão Solene de outorga da Medalha de Honra ao Mérito Bonavith 
 Nogueira de Carvalho ao senhor Marcos Antônio Galindo.
DTSTART;TZID=Brazil/East;VALUE=DATE-TIME:20191218T200000
DTEND;TZID=Brazil/East;VALUE=DATE-TIME:20191218T220000
DTSTAMP;VALUE=DATE-TIME:20260421T020417Z
UID:57c5927394124ae689689bd0fa638d72@www.caruaru.pe.leg.br
CONTACT:(81) 99243-2902\, cerimonialcamaracaruaru@gmail.com
CREATED;VALUE=DATE-TIME:20191205T130509Z
DESCRIPTION:Sessão Solene de outorga de título de cidadania ao senhor Ma
 rcos Antônio Galindo\, propositura do vereador Allyson da Farmácia.
LAST-MODIFIED;VALUE=DATE-TIME:20191205T130527Z
LOCATION:Plenário da Câmara Municipal de Caruaru
URL:https://www.caruaru.pe.leg.br/institucional/eventos/sessao-solene-de-o
 utorga-da-medalha-de-honra-ao-merito-bonavith-nogueira-de-carvalho-ao-senh
 or-marcos-antonio-galindo
END:VEVENT
BEGIN:VTIMEZONE
TZID:Brazil/East
X-LIC-LOCATION:Brazil/East
BEGIN:DAYLIGHT
DTSTART;VALUE=DATE-TIME:20191020T010000
TZNAME:BRST
TZOFFSETFROM:-0300
TZOFFSETTO:-0200
END:DAYLIGHT
END:VTIMEZONE
END:VCALENDAR
