BEGIN:VCALENDAR
VERSION:2.0
PRODID:-//Plone.org//NONSGML plone.app.event//EN
X-WR-TIMEZONE:Brazil/East
BEGIN:VEVENT
SUMMARY:Sessão Solene de entrega da medalha de Honra ao Mérito "Professo
 ra Sinhazinha" ao Colégio Alternativo de Caruaru
DTSTART;TZID=Brazil/East;VALUE=DATE-TIME:20190809T200000
DTEND;TZID=Brazil/East;VALUE=DATE-TIME:20190809T220000
DTSTAMP;VALUE=DATE-TIME:20260421T180543Z
UID:f24963bc67b448db918dc13210476792@www.caruaru.pe.leg.br
CONTACT:(81) 99243-2902\, cerimonialcamaracaruaru@gmail.com
CREATED;VALUE=DATE-TIME:20190903T143406Z
DESCRIPTION:Sessão Solene de entrega da medalha de Honra ao Mérito "Prof
 essora Sinhazinha" ao Colégio Alternativo de Caruaru\, pelos 35 anos da i
 nstituição. Propositura do vereador Marcelo Gomes.
LAST-MODIFIED;VALUE=DATE-TIME:20190903T175912Z
LOCATION:Plenário da Câmara Municipal de Caruaru
URL:https://www.caruaru.pe.leg.br/institucional/eventos/sessao-solene-de-e
 ntrega-da-medalha-de-honra-ao-merito-professora-sinhazinha-ao-colegio-alte
 rnativo-pelos-35-anos-da-instituicao
END:VEVENT
BEGIN:VTIMEZONE
TZID:Brazil/East
X-LIC-LOCATION:Brazil/East
BEGIN:STANDARD
DTSTART;VALUE=DATE-TIME:20190216T230000
TZNAME:BRT
TZOFFSETFROM:-0200
TZOFFSETTO:-0300
END:STANDARD
END:VTIMEZONE
END:VCALENDAR
