BEGIN:VCALENDAR
VERSION:2.0
PRODID:-//Plone.org//NONSGML plone.app.event//EN
X-WR-TIMEZONE:Brazil/East
BEGIN:VEVENT
SUMMARY:Sessão Solene de entrega da medalha de Honra ao Mérito "Bonavith
  Nogueira de Carvalho" ao senhor Alex Monteiro de Lima.
DTSTART;TZID=Brazil/East;VALUE=DATE-TIME:20190705T200000
DTEND;TZID=Brazil/East;VALUE=DATE-TIME:20190705T220000
DTSTAMP;VALUE=DATE-TIME:20260421T195950Z
UID:44603858369c48fc8f368f24129d76af@www.caruaru.pe.leg.br
CONTACT:(81) 99243-2902\, cerimonialcamaracaruaru@gmail.com
CREATED;VALUE=DATE-TIME:20190903T145102Z
DESCRIPTION:Sessão Solene de entrega da medalha de Honra ao Mérito "Bona
 vith Nogueira de Carvalho" ao senhor Alex Monteiro de Lima\, propositura d
 o vereador Alberes Lopes.
LAST-MODIFIED;VALUE=DATE-TIME:20190903T180428Z
LOCATION:Plenário da Câmara Municipal de Caruaru
URL:https://www.caruaru.pe.leg.br/institucional/eventos/sessao-solene-de-e
 ntrega-da-medalha-de-honra-ao-merito-bonavith-nogueira-de-carvalho-ao-senh
 or-alex-monteiro-de-lima
END:VEVENT
BEGIN:VTIMEZONE
TZID:Brazil/East
X-LIC-LOCATION:Brazil/East
BEGIN:STANDARD
DTSTART;VALUE=DATE-TIME:20190216T230000
TZNAME:BRT
TZOFFSETFROM:-0200
TZOFFSETTO:-0300
END:STANDARD
END:VTIMEZONE
END:VCALENDAR
