BEGIN:VCALENDAR
VERSION:2.0
PRODID:-//Plone.org//NONSGML plone.app.event//EN
X-WR-TIMEZONE:Brazil/East
BEGIN:VEVENT
SUMMARY:Homenagem Póstuma ao Senhor Fernando Soares\, ex-vereador de Caru
 aru
DTSTART;TZID=Brazil/East;VALUE=DATE-TIME:20170605T200000
DTEND;TZID=Brazil/East;VALUE=DATE-TIME:20170606T000000
DTSTAMP;VALUE=DATE-TIME:20260420T132611Z
UID:48f42a4a290940908c08812a1822702c@www.caruaru.pe.leg.br
ATTENDEE;CN="Autoridades convidadas e sociedade em geral";ROLE=REQ-PARTICI
 PANT:Autoridades convidadas e sociedade em geral
CONTACT:Cerimonial Câmara Caruaru\, 3701-1850 / Ramal 213\, cerimonialcam
 aracaruaru@gmail.com
CREATED;VALUE=DATE-TIME:20170529T113531Z
DESCRIPTION:Sessão Solene de Homenagem Póstuma ao ex-vereador de Caruaru
 \, Fernando Soares.
LAST-MODIFIED;VALUE=DATE-TIME:20181108T170031Z
LOCATION:Plenário da Câmara Municipal de Caruaru
URL:https://www.caruaru.pe.leg.br/institucional/eventos/homenagem-postuma-
 ao-senhor-fernando-soares-ex-vereador-de-caruaru
END:VEVENT
BEGIN:VTIMEZONE
TZID:Brazil/East
X-LIC-LOCATION:Brazil/East
BEGIN:STANDARD
DTSTART;VALUE=DATE-TIME:20170218T230000
TZNAME:BRT
TZOFFSETFROM:-0200
TZOFFSETTO:-0300
END:STANDARD
END:VTIMEZONE
END:VCALENDAR
