BEGIN:VCALENDAR
VERSION:2.0
PRODID:-//Plone.org//NONSGML plone.app.event//EN
X-WR-TIMEZONE:Brazil/East
BEGIN:VEVENT
SUMMARY:Homenagem aos 500 anos da Reforma Protestante e Medalha para Pasto
 res
DTSTART;TZID=Brazil/East;VALUE=DATE-TIME:20171031T200000
DTEND;TZID=Brazil/East;VALUE=DATE-TIME:20171031T230000
DTSTAMP;VALUE=DATE-TIME:20260420T132227Z
UID:3ffb895d35f946c3bcee6c17fbe4cb61@www.caruaru.pe.leg.br
ATTENDEE;CN="Autoridades convidadas e sociedade em geral";ROLE=REQ-PARTICI
 PANT:Autoridades convidadas e sociedade em geral
CONTACT:Cerimonial Câmara Caruaru\, 3701-1850 / Ramal 213\, cerimonialcam
 aracaruaru@gmail.com
CREATED;VALUE=DATE-TIME:20171017T115616Z
DESCRIPTION:Sessão Solene de Homenagem aos 500 anos da Reforma Protestant
 e e entrega da Medalha de Honra ao Mérito Pastor Júlio Leitão aos Pasto
 res Ary Queiroz Vieira Júnior\, Samuel de Oliveira e Paulo Roberto Dantas
 . A propositura é do vereador Pb. Andrey Gouveia.
LAST-MODIFIED;VALUE=DATE-TIME:20181108T170036Z
LOCATION:Plenário da Câmara Municipal de Caruaru
URL:https://www.caruaru.pe.leg.br/institucional/eventos/homenagem-aos-500-
 anos-da-reforma-protestante-e-medalha-para-pastores
END:VEVENT
BEGIN:VTIMEZONE
TZID:Brazil/East
X-LIC-LOCATION:Brazil/East
BEGIN:DAYLIGHT
DTSTART;VALUE=DATE-TIME:20171015T010000
TZNAME:BRST
TZOFFSETFROM:-0300
TZOFFSETTO:-0200
END:DAYLIGHT
END:VTIMEZONE
END:VCALENDAR
