BEGIN:VCALENDAR
VERSION:2.0
PRODID:-//Plone.org//NONSGML plone.app.event//EN
X-WR-TIMEZONE:Brazil/East
BEGIN:VEVENT
SUMMARY:Entrega de Medalha ao Senhor Pedro Miranda
DTSTART;TZID=Brazil/East;VALUE=DATE-TIME:20171106T200000
DTEND;TZID=Brazil/East;VALUE=DATE-TIME:20171106T230000
DTSTAMP;VALUE=DATE-TIME:20260421T195746Z
UID:a9328c74b680473f830127a2b8a2078b@www.caruaru.pe.leg.br
ATTENDEE;CN="Autoridades convidadas e sociedade em geral";ROLE=REQ-PARTICI
 PANT:Autoridades convidadas e sociedade em geral
CONTACT:Cerimonial Câmara Caruaru\, 3701-1850 / Ramal 213\, cerimonialcam
 aracaruaru@gmail.com
CREATED;VALUE=DATE-TIME:20171024T124120Z
DESCRIPTION:Sessão Solene de entrega da Medalha de Honra ao Mérito Arman
 do da Fonte ao Senhor Pedro Miranda\, presidente da ACIC\, propositura do 
 vereador Alberes Lopes.
LAST-MODIFIED;VALUE=DATE-TIME:20181108T170036Z
LOCATION:Plenário da Câmara Municipal de Caruaru
URL:https://www.caruaru.pe.leg.br/institucional/eventos/entrega-de-medalha
 -ao-senhor-pedro-miranda
END:VEVENT
BEGIN:VTIMEZONE
TZID:Brazil/East
X-LIC-LOCATION:Brazil/East
BEGIN:DAYLIGHT
DTSTART;VALUE=DATE-TIME:20171015T010000
TZNAME:BRST
TZOFFSETFROM:-0300
TZOFFSETTO:-0200
END:DAYLIGHT
END:VTIMEZONE
END:VCALENDAR
