BEGIN:VCALENDAR
VERSION:2.0
PRODID:-//Plone.org//NONSGML plone.app.event//EN
X-WR-TIMEZONE:Brazil/East
BEGIN:VEVENT
SUMMARY:Entrega de Medalha ao Senhor Felipe Sampaio (OAB Caruaru)
DTSTART;TZID=Brazil/East;VALUE=DATE-TIME:20170828T200000
DTEND;TZID=Brazil/East;VALUE=DATE-TIME:20170829T000000
DTSTAMP;VALUE=DATE-TIME:20260421T180401Z
UID:df18daabcc1f45889357471b62ce87b9@www.caruaru.pe.leg.br
ATTENDEE;CN="Autoridades convidadas e sociedade em geral";ROLE=REQ-PARTICI
 PANT:Autoridades convidadas e sociedade em geral
CONTACT:Cerimonial Câmara Caruaru\, 3701-1850 / Ramal 213\, cerimonialcam
 aracaruaru@gmail.com
CREATED;VALUE=DATE-TIME:20170817T123854Z
DESCRIPTION:Sessão Solene de entrega de Medalha de Honra ao Mérito “De
 sembargador Amaro de Lira e César” à Ordem dos Advogados do Brasil sub
 seção Caruaru\, representada pelo Senhor \nFelipe Sampaio\, propositura 
 do Vereador Lula Tôrres.
LAST-MODIFIED;VALUE=DATE-TIME:20181108T170033Z
LOCATION:Plenário da Câmara Municipal de Caruaru
URL:https://www.caruaru.pe.leg.br/institucional/eventos/entrega-de-medalha
 -ao-senhor-felipe-sampaio-oab-caruaru
END:VEVENT
BEGIN:VTIMEZONE
TZID:Brazil/East
X-LIC-LOCATION:Brazil/East
BEGIN:STANDARD
DTSTART;VALUE=DATE-TIME:20170218T230000
TZNAME:BRT
TZOFFSETFROM:-0200
TZOFFSETTO:-0300
END:STANDARD
END:VTIMEZONE
END:VCALENDAR
