BEGIN:VCALENDAR
VERSION:2.0
PRODID:-//Plone.org//NONSGML plone.app.event//EN
X-WR-TIMEZONE:Brazil/East
BEGIN:VEVENT
SUMMARY:Entrega de Medalha à Senhora Maria do Carmo Queiroz
DTSTART;TZID=Brazil/East;VALUE=DATE-TIME:20170418T200000
DTEND;TZID=Brazil/East;VALUE=DATE-TIME:20170419T000000
DTSTAMP;VALUE=DATE-TIME:20260421T180025Z
UID:a4277f5ee82a4ffcaa3382ef78b4a40a@www.caruaru.pe.leg.br
ATTENDEE;CN="Autoridades convidadas e sociedade em geral";ROLE=REQ-PARTICI
 PANT:Autoridades convidadas e sociedade em geral
CONTACT:Cerimonial Câmara Caruaru\, 3701-1850 / Ramal 213\, cerimonialcam
 aracaruaru@gmail.com
CREATED;VALUE=DATE-TIME:20170406T122738Z
DESCRIPTION:Sessão Solene de entrega de Medalha de Honra ao Mérito “Pr
 ofessora Sinhazinha” à Senhora Maria do Carmo Queiroz\, propositura do 
 Vereador Sérgio Siqueira.
LAST-MODIFIED;VALUE=DATE-TIME:20181108T170027Z
LOCATION:Plenário da Câmara Municipal de Caruaru
URL:https://www.caruaru.pe.leg.br/institucional/eventos/entrega-de-medalha
 -a-senhora-maria-do-carmo-queiroz
END:VEVENT
BEGIN:VTIMEZONE
TZID:Brazil/East
X-LIC-LOCATION:Brazil/East
BEGIN:STANDARD
DTSTART;VALUE=DATE-TIME:20170218T230000
TZNAME:BRT
TZOFFSETFROM:-0200
TZOFFSETTO:-0300
END:STANDARD
END:VTIMEZONE
END:VCALENDAR
