BEGIN:VCALENDAR
VERSION:2.0
PRODID:-//Plone.org//NONSGML plone.app.event//EN
X-WR-TIMEZONE:Brazil/East
BEGIN:VEVENT
SUMMARY:Audiência Pública | Secretaria de Saúde.
DTSTART;TZID=Brazil/East;VALUE=DATE-TIME:20190923T080000
DTEND;TZID=Brazil/East;VALUE=DATE-TIME:20190923T120000
DTSTAMP;VALUE=DATE-TIME:20260421T175958Z
UID:8dc5664c438d4dc7b7dc8fb3ff866211@www.caruaru.pe.leg.br
CONTACT:(81) 99243-2902\, cerimonialcamaracaruaru@gmail.com
CREATED;VALUE=DATE-TIME:20190903T150148Z
DESCRIPTION:Audiência Pública da Secretaria de Saúde\, solicitação de
  Francisco de Assis da Silva.
LAST-MODIFIED;VALUE=DATE-TIME:20190903T150153Z
LOCATION:Plenário da Câmara Municipal de Caruaru
URL:https://www.caruaru.pe.leg.br/institucional/eventos/audiencia-publica-
 secretaria-de-saude
END:VEVENT
BEGIN:VTIMEZONE
TZID:Brazil/East
X-LIC-LOCATION:Brazil/East
BEGIN:STANDARD
DTSTART;VALUE=DATE-TIME:20190216T230000
TZNAME:BRT
TZOFFSETFROM:-0200
TZOFFSETTO:-0300
END:STANDARD
END:VTIMEZONE
END:VCALENDAR
