BEGIN:VCALENDAR
VERSION:2.0
PRODID:-//Plone.org//NONSGML plone.app.event//EN
X-WR-TIMEZONE:Brazil/East
BEGIN:VEVENT
SUMMARY:Audiência Pública "Requalificação do Centro da Cidade de Carua
 ru"
DTSTART;TZID=Brazil/East;VALUE=DATE-TIME:20170927T090000
DTEND;TZID=Brazil/East;VALUE=DATE-TIME:20170927T120000
DTSTAMP;VALUE=DATE-TIME:20260421T180025Z
UID:0e4729aa04244612aab8414be91eca39@www.caruaru.pe.leg.br
ATTENDEE;CN="Autoridades convidadas e sociedade em geral";ROLE=REQ-PARTICI
 PANT:Autoridades convidadas e sociedade em geral
CONTACT:Cerimonial Câmara Caruaru\, 3701-1850 / Ramal 213\, cerimonialcam
 aracaruaru@gmail.com
CREATED;VALUE=DATE-TIME:20170810T150907Z
DESCRIPTION:Audiência Pública que discutirá temas referentes à requali
 ficação do Centro da cidade de Caruaru\, propositura do Vereador Alberes
  Lopes.
LAST-MODIFIED;VALUE=DATE-TIME:20181108T170032Z
LOCATION:Plenário da Câmara Municipal de Caruaru
URL:https://www.caruaru.pe.leg.br/institucional/eventos/audiencia-publica-
 requalificacao-do-centro-da-cidade-de-caruaru
END:VEVENT
BEGIN:VTIMEZONE
TZID:Brazil/East
X-LIC-LOCATION:Brazil/East
BEGIN:STANDARD
DTSTART;VALUE=DATE-TIME:20170218T230000
TZNAME:BRT
TZOFFSETFROM:-0200
TZOFFSETTO:-0300
END:STANDARD
END:VTIMEZONE
END:VCALENDAR
