BEGIN:VCALENDAR
VERSION:2.0
PRODID:-//Plone.org//NONSGML plone.app.event//EN
X-WR-TIMEZONE:Brazil/East
BEGIN:VEVENT
SUMMARY:Audiência Pública "Possível Extinção da 105ª Zona Eleitoral 
 de Caruaru"
DTSTART;TZID=Brazil/East;VALUE=DATE-TIME:20170814T090000
DTEND;TZID=Brazil/East;VALUE=DATE-TIME:20170814T120000
DTSTAMP;VALUE=DATE-TIME:20260420T132828Z
UID:ff7e361107ee4ff594d7e44ecd159226@www.caruaru.pe.leg.br
ATTENDEE;CN="Autoridades convidadas e sociedade em geral";ROLE=REQ-PARTICI
 PANT:Autoridades convidadas e sociedade em geral
CONTACT:Cerimonial Câmara Caruaru\, 3701-1850 / Ramal 213\, cerimonialcam
 aracaruaru@gmail.com
CREATED;VALUE=DATE-TIME:20170810T145556Z
DESCRIPTION:Audiência Pública que irá discutir a possível extinção d
 a 105ª Zona Eleitoral de Caruaru\, propositura do Vereador Lula Tôrres.
LAST-MODIFIED;VALUE=DATE-TIME:20181108T170032Z
LOCATION:Plenário da Câmara Municipal de Caruaru
URL:https://www.caruaru.pe.leg.br/institucional/eventos/audiencia-publica-
 possivel-extincao-da-105a-zona-eleitoral-de-caruaru
END:VEVENT
BEGIN:VTIMEZONE
TZID:Brazil/East
X-LIC-LOCATION:Brazil/East
BEGIN:STANDARD
DTSTART;VALUE=DATE-TIME:20170218T230000
TZNAME:BRT
TZOFFSETFROM:-0200
TZOFFSETTO:-0300
END:STANDARD
END:VTIMEZONE
END:VCALENDAR
