BEGIN:VCALENDAR
VERSION:2.0
PRODID:-//Plone.org//NONSGML plone.app.event//EN
X-WR-TIMEZONE:Brazil/East
BEGIN:VEVENT
SUMMARY:Audiência Pública | Mototaxistas 
DTSTART;TZID=Brazil/East;VALUE=DATE-TIME:20190410T090000
DTEND;TZID=Brazil/East;VALUE=DATE-TIME:20190410T130000
DTSTAMP;VALUE=DATE-TIME:20260421T180031Z
UID:1a8c72756c4043a3ace5be0bace18bde@www.caruaru.pe.leg.br
CONTACT:(81) 9 9243-2902 \, cerimonialcamaracaruaru@gmail.com
CREATED;VALUE=DATE-TIME:20190903T144259Z
DESCRIPTION:Audiência Pública para tratar sobre as dificuldades apresent
 adas pelos trabalhadores que atuam com serviço de transporte de passageir
 os\, no modal Mototáxi em Caruaru. Propositura do vereador Edjailson da C
 aru Forró.
LAST-MODIFIED;VALUE=DATE-TIME:20190903T144329Z
LOCATION:Plenário da Câmara Municipal de Caruaru
URL:https://www.caruaru.pe.leg.br/institucional/eventos/audiencia-publica-
 mototaxistas
END:VEVENT
BEGIN:VTIMEZONE
TZID:Brazil/East
X-LIC-LOCATION:Brazil/East
BEGIN:STANDARD
DTSTART;VALUE=DATE-TIME:20190216T230000
TZNAME:BRT
TZOFFSETFROM:-0200
TZOFFSETTO:-0300
END:STANDARD
END:VTIMEZONE
END:VCALENDAR
