BEGIN:VCALENDAR
VERSION:2.0
PRODID:-//Plone.org//NONSGML plone.app.event//EN
X-WR-TIMEZONE:Brazil/East
BEGIN:VEVENT
SUMMARY:Audiência Pública "Lei de Diretrizes Orçamentárias"
DTSTART;TZID=Brazil/East;VALUE=DATE-TIME:20170824T090000
DTEND;TZID=Brazil/East;VALUE=DATE-TIME:20170824T120000
DTSTAMP;VALUE=DATE-TIME:20260421T195629Z
UID:142ad91fa9a9432f8b6b7d2e0eb24e93@www.caruaru.pe.leg.br
ATTENDEE;CN="Autoridades convidadas e sociedade em geral";ROLE=REQ-PARTICI
 PANT:Autoridades convidadas e sociedade em geral
CONTACT:Cerimonial Câmara Caruaru\, 3701-1850 / Ramal 213\, cerimonialcam
 aracaruaru@gmail.com
CREATED;VALUE=DATE-TIME:20170821T115717Z
DESCRIPTION:Audiência Pública para discutir a Lei de Diretrizes Orçamen
 tárias\, proposta pela Comissão de Finanças e Orçamento da Câmara Mun
 icipal de Caruaru.
LAST-MODIFIED;VALUE=DATE-TIME:20181108T170033Z
LOCATION:Plenário da Câmara Municipal de Caruaru
URL:https://www.caruaru.pe.leg.br/institucional/eventos/audiencia-publica-
 lei-de-diretrizes-orcamentarias
END:VEVENT
BEGIN:VTIMEZONE
TZID:Brazil/East
X-LIC-LOCATION:Brazil/East
BEGIN:STANDARD
DTSTART;VALUE=DATE-TIME:20170218T230000
TZNAME:BRT
TZOFFSETFROM:-0200
TZOFFSETTO:-0300
END:STANDARD
END:VTIMEZONE
END:VCALENDAR
