BEGIN:VCALENDAR
VERSION:2.0
PRODID:-//Plone.org//NONSGML plone.app.event//EN
X-WR-TIMEZONE:Brazil/East
BEGIN:VEVENT
SUMMARY:Audiência Pública | Lei de Diretrizes Orçamentárias.
DTSTART;TZID=Brazil/East;VALUE=DATE-TIME:20190812T090000
DTEND;TZID=Brazil/East;VALUE=DATE-TIME:20190812T120000
DTSTAMP;VALUE=DATE-TIME:20260421T195747Z
UID:7798ef1e2a9241d092e0001977ada6d2@www.caruaru.pe.leg.br
CONTACT:(81) 99243-2902\, cerimonialcamaracaruaru@gmail.com
CREATED;VALUE=DATE-TIME:20190903T144059Z
DESCRIPTION:Audiência Pública para tratar sobre a Lei de Diretrizes Orç
 amentárias(LDO) .
LAST-MODIFIED;VALUE=DATE-TIME:20190903T144105Z
LOCATION:Plenário da Câmara Municipal de Caruaru
URL:https://www.caruaru.pe.leg.br/institucional/eventos/audiencia-publica-
 lei-de-diretrizes-orcamentarias-1
END:VEVENT
BEGIN:VTIMEZONE
TZID:Brazil/East
X-LIC-LOCATION:Brazil/East
BEGIN:STANDARD
DTSTART;VALUE=DATE-TIME:20190216T230000
TZNAME:BRT
TZOFFSETFROM:-0200
TZOFFSETTO:-0300
END:STANDARD
END:VTIMEZONE
END:VCALENDAR
