BEGIN:VCALENDAR
VERSION:2.0
PRODID:-//Plone.org//NONSGML plone.app.event//EN
X-WR-TIMEZONE:Brazil/East
BEGIN:VEVENT
SUMMARY:Audiência Pública "Elevação da terceira Entrância Judicial no
  município de Caruaru"
DTSTART;TZID=Brazil/East;VALUE=DATE-TIME:20170526T090000
DTEND;TZID=Brazil/East;VALUE=DATE-TIME:20170526T120000
DTSTAMP;VALUE=DATE-TIME:20260420T133928Z
UID:eb23f6d383bc4169a486f934b2ab2609@www.caruaru.pe.leg.br
ATTENDEE;CN="Representantes do segmento judiciário, autoridades e públic
 o em geral";ROLE=REQ-PARTICIPANT:Representantes do segmento judiciário, a
 utoridades e público em geral
CONTACT:Cerimonial Câmara Caruaru\, 3701-1850 / Ramal 213\, cerimonialcam
 aracaruaru@gmail.com
CREATED;VALUE=DATE-TIME:20170503T121838Z
DESCRIPTION:Audiência Pública para discutir a necessidade da "Elevação
  da terceira Entrância Judicial no município de Caruaru"\, proposta pelo
  Vereador Leonardo Chaves.
LAST-MODIFIED;VALUE=DATE-TIME:20181108T170030Z
LOCATION:Plenário da Câmara Municipal de Caruaru
URL:https://www.caruaru.pe.leg.br/institucional/eventos/audiencia-publica-
 elevacao-da-terceira-entrancia-judicial-no-municipio-de-caruaru
END:VEVENT
BEGIN:VTIMEZONE
TZID:Brazil/East
X-LIC-LOCATION:Brazil/East
BEGIN:STANDARD
DTSTART;VALUE=DATE-TIME:20170218T230000
TZNAME:BRT
TZOFFSETFROM:-0200
TZOFFSETTO:-0300
END:STANDARD
END:VTIMEZONE
END:VCALENDAR
