BEGIN:VCALENDAR
VERSION:2.0
PRODID:-//Plone.org//NONSGML plone.app.event//EN
X-WR-TIMEZONE:Brazil/East
BEGIN:VEVENT
SUMMARY:Audiência Pública "O papel do Médico Veterinário na Sociedade"
DTSTART;TZID=Brazil/East;VALUE=DATE-TIME:20170913T090000
DTEND;TZID=Brazil/East;VALUE=DATE-TIME:20170913T120000
DTSTAMP;VALUE=DATE-TIME:20260421T000857Z
UID:72c4c29053204334b210e8a1a497b7e5@www.caruaru.pe.leg.br
ATTENDEE;CN="Autoridades convidadas e sociedade em geral";ROLE=REQ-PARTICI
 PANT:Autoridades convidadas e sociedade em geral
CONTACT:Cerimonial Câmara Caruaru\, 3701-1850 / Ramal 213\, cerimonialcam
 aracaruaru@gmail.com
CREATED;VALUE=DATE-TIME:20170810T143552Z
DESCRIPTION:Audiência Pública para discutir o papel do Médico Veteriná
 rio na Sociedade\, propositura do vereador Fagner Fernandes.
LAST-MODIFIED;VALUE=DATE-TIME:20181108T170032Z
LOCATION:Plenário da Câmara Municipal de Caruaru
URL:https://www.caruaru.pe.leg.br/institucional/eventos/audiencia-publica-
 construcao-do-hospital-da-crianca
END:VEVENT
BEGIN:VTIMEZONE
TZID:Brazil/East
X-LIC-LOCATION:Brazil/East
BEGIN:STANDARD
DTSTART;VALUE=DATE-TIME:20170218T230000
TZNAME:BRT
TZOFFSETFROM:-0200
TZOFFSETTO:-0300
END:STANDARD
END:VTIMEZONE
END:VCALENDAR
