BEGIN:VCALENDAR
VERSION:2.0
PRODID:-//Plone.org//NONSGML plone.app.event//EN
X-WR-TIMEZONE:Brazil/East
BEGIN:VEVENT
SUMMARY:Audiência Pública "Condições de trabalho dos comerciantes info
 rmais"
DTSTART;TZID=Brazil/East;VALUE=DATE-TIME:20170825T090000
DTEND;TZID=Brazil/East;VALUE=DATE-TIME:20170825T120000
DTSTAMP;VALUE=DATE-TIME:20260420T132816Z
UID:9b16673812d64d98a1c670f60184a708@www.caruaru.pe.leg.br
ATTENDEE;CN="Autoridades convidadas e sociedade em geral";ROLE=REQ-PARTICI
 PANT:Autoridades convidadas e sociedade em geral
CONTACT:Cerimonial Câmara Caruaru\, 3701-1850 / Ramal 213\, cerimonialcam
 aracaruaru@gmail.com
CREATED;VALUE=DATE-TIME:20170816T144331Z
DESCRIPTION:Audiência Pública que debaterá os direitos e as condições
  de trabalho dos comerciantes informais de Caruaru\, propositura do Veread
 or Daniel Finizola.
LAST-MODIFIED;VALUE=DATE-TIME:20181108T170033Z
LOCATION:Plenário da Câmara Municipal de Caruaru
URL:https://www.caruaru.pe.leg.br/institucional/eventos/audiencia-publica-
 condicoes-de-trabalho-dos-comerciantes-informais
END:VEVENT
BEGIN:VTIMEZONE
TZID:Brazil/East
X-LIC-LOCATION:Brazil/East
BEGIN:STANDARD
DTSTART;VALUE=DATE-TIME:20170218T230000
TZNAME:BRT
TZOFFSETFROM:-0200
TZOFFSETTO:-0300
END:STANDARD
END:VTIMEZONE
END:VCALENDAR
