BEGIN:VCALENDAR
VERSION:2.0
PRODID:-//Plone.org//NONSGML plone.app.event//EN
X-WR-TIMEZONE:Brazil/East
BEGIN:VEVENT
SUMMARY:Audiência Pública | "Autismo: inclusão e a necessidade de polí
 ticas para construção de uma sociedade igualitária"
DTSTART;TZID=Brazil/East;VALUE=DATE-TIME:20190327T090000
DTEND;TZID=Brazil/East;VALUE=DATE-TIME:20190327T130000
DTSTAMP;VALUE=DATE-TIME:20260421T180530Z
UID:82bc550e9bbc43138ddb9274c10461c3@www.caruaru.pe.leg.br
CONTACT:(81)9.9243-2902\, cerimonialcamaracaruaru@gmail.com
CREATED;VALUE=DATE-TIME:20190903T142924Z
DESCRIPTION:Audiência Pública para tratar sobre a criação de política
 s de inclusão aos portadores de autismo\, com propositura do vereador Fag
 ner Fernandes.
LAST-MODIFIED;VALUE=DATE-TIME:20190903T142931Z
LOCATION:Plenário da Câmara Municipal de Caruaru
URL:https://www.caruaru.pe.leg.br/institucional/eventos/audiencia-publica-
 autismo-inclusao-e-a-necessidade-de-politicas-para-construcao-de-uma-socie
 dade-igualitaria
END:VEVENT
BEGIN:VTIMEZONE
TZID:Brazil/East
X-LIC-LOCATION:Brazil/East
BEGIN:STANDARD
DTSTART;VALUE=DATE-TIME:20190216T230000
TZNAME:BRT
TZOFFSETFROM:-0200
TZOFFSETTO:-0300
END:STANDARD
END:VTIMEZONE
END:VCALENDAR
